BEGIN:VCALENDAR
VERSION:2.0
PRODID:-//ChamberMaster//Event Calendar 2.0//EN
METHOD:PUBLISH
X-PUBLISHED-TTL:P3D
REFRESH-INTERVAL:P3D
CALSCALE:GREGORIAN
BEGIN:VEVENT
DTSTART;VALUE=DATE:20170831
DTEND;VALUE=DATE:20170905
TRANSP:TRANSPARENT
X-MICROSOFT-CDO-ALLDAYEVENT:TRUE
SUMMARY:Dell Technologies Championship
DESCRIPTION:For all information on this years Championship
X-ALT-DESC;FMTTYPE=text/html:For all information on this years Championship
LOCATION:TPC Boston
UID:e.1730.2575
SEQUENCE:3
DTSTAMP:20260420T085236Z
URL:http://tri-townchamber.chambermaster.com/events/details/dell-technologies-championship-2575
END:VEVENT

END:VCALENDAR
